BEGIN:VCALENDAR
VERSION:2.0
PRODID:-//Cherie Ray &amp; Company - ECPv6.15.20//NONSGML v1.0//EN
CALSCALE:GREGORIAN
METHOD:PUBLISH
X-WR-CALNAME:Cherie Ray &amp; Company
X-ORIGINAL-URL:https://www.cherieray.com
X-WR-CALDESC:Events for Cherie Ray &amp; Company
REFRESH-INTERVAL;VALUE=DURATION:PT1H
X-Robots-Tag:noindex
X-PUBLISHED-TTL:PT1H
BEGIN:VTIMEZONE
TZID:America/Chicago
BEGIN:DAYLIGHT
TZOFFSETFROM:-0600
TZOFFSETTO:-0500
TZNAME:CDT
DTSTART:20250309T080000
END:DAYLIGHT
BEGIN:STANDARD
TZOFFSETFROM:-0500
TZOFFSETTO:-0600
TZNAME:CST
DTSTART:20251102T070000
END:STANDARD
BEGIN:DAYLIGHT
TZOFFSETFROM:-0600
TZOFFSETTO:-0500
TZNAME:CDT
DTSTART:20260308T080000
END:DAYLIGHT
BEGIN:STANDARD
TZOFFSETFROM:-0500
TZOFFSETTO:-0600
TZNAME:CST
DTSTART:20261101T070000
END:STANDARD
BEGIN:DAYLIGHT
TZOFFSETFROM:-0600
TZOFFSETTO:-0500
TZNAME:CDT
DTSTART:20270314T080000
END:DAYLIGHT
BEGIN:STANDARD
TZOFFSETFROM:-0500
TZOFFSETTO:-0600
TZNAME:CST
DTSTART:20271107T070000
END:STANDARD
BEGIN:DAYLIGHT
TZOFFSETFROM:-0600
TZOFFSETTO:-0500
TZNAME:CDT
DTSTART:20280312T080000
END:DAYLIGHT
BEGIN:STANDARD
TZOFFSETFROM:-0500
TZOFFSETTO:-0600
TZNAME:CST
DTSTART:20281105T070000
END:STANDARD
END:VTIMEZONE
BEGIN:VEVENT
DTSTART;TZID=America/Chicago:20260311T130000
DTEND;TZID=America/Chicago:20260429T150000
DTSTAMP:20260421T130806
CREATED:20251224T152330Z
LAST-MODIFIED:20260310T002621Z
UID:6372-1773234000-1777474800@www.cherieray.com
SUMMARY:7 - Wednesdays of Intuitive Painting
DESCRIPTION:Weekly – Intuitive Painting Classes: Experience the Joy of Painting with 100% Natural Creativity\nLet’s get together weekly and explore Intuitive Painting.\n7 Wednesdays starting March 11th\n1-3pm central time\nFresh class format….Each Monday you will receive a video supporting your understanding of the creative process\, via email\, to reflect on. We will orient to this topic when we meet on Wednesday for class as you paint.\nExplore 100% creativity in a critique-free studio. You will learn and experience how to listen to inspiration\, remove limiting blocks and connect to your limitless\, natural\, creative expression. Nothing feels better.\nThis series of classes are designed for you to cultivate a deep\, robust relationship between you\, your intuition\, and your innate creative process. You will be supported in seeing what supports you and what stops you from this free flowing process and living authentically. You will be surprised at what gifts come to you when you allow yourself to live fully expressed. During this series of classes you can relax\, explore\, and trust the wisdom that leads you as you create.\nNo artistic training needed. Are you a blocked Artist looking to reconnect? This is the place for you.\nThis is your call to create without pressure to produce and with an amazing community. Cherie Ray has studied\, facilitated\, and trained facilitators with Michele Cassou for 20+years. Cherie teaches and supports the pure integrity of Michele’s work.\nEach participant receives individual support in their exploration of creativity.\nNo experience required and no critiques are permitted\, never-ever.\nWhere: In-Person in Houston\, TX (77008) or Virtually via Zoom. It’s so easy! Would you like to attend a virtual workshop but have no clue where to start? Let me help. Everything you need is just a click away. I will support you in getting set up prior to the workshop so you are ready to go when we begin.\n“Thank you\, Cherie\, for making it possible to attend your workshops virtually. I use my phone! I love the experience of painting with those in the studio and really feel part of the group. I’m amazed what a rich experience it is. But I do miss the snacks!”. F.B.\n“My initial reservation about how well a virtual class would work was completely resolved the moment it began! I felt part of the group\, included and able to interact with everyone there.”\n“The attention I received from Cherie was wonderful and very much the same as if I were in her presence in her studio. I’m so glad to have this virtual option so I didn’t have to miss this class. This is something I will do again and highly recommend it to anyone who has time but can’t travel to Houston.”\n“Thank you for making this possible\, Cherie!” ~T.N\nFacilitator: Cherie Ray\, MLA\, Coach.Consultant\nEmail: Cherie@CherieRay.com\nTime:1pm-3pm CST\, 11am-1pm pacific\, 2-4pm eastern\, 7-9pm UK\n7 Wednesdays: March 11\, 18\, 25\, April 1\, 8\, (no class on April 15th) 22\, 29\, 2026\nIn-person and virtual attendance\, via Zoom. Virtual Attendees: Materials for this workshop are easily acquired through Amazon and other vendors. A brief supply list will be sent following registration. It’s O-So-Easy!\nHave to miss a session or two? The recording of the missed session will be shared with you so you can paint on your own with the recording.\nTuition: $395\nRefunds are available 10 days prior to the workshop minus a $50 administration fee. Cancellations with at least 24 hours notice may use tuition towards other offerings.
URL:https://www.cherieray.com/event/7wednesdays-of-intuitive-painting-2/
LOCATION:Houston Heights (77008) or Virtual
CATEGORIES:Creativity Workshop,Events,Intuitive Painting,Michele Cassou,Point Zero Painting,Workshops
ATTACH;FMTTYPE=image/jpeg:https://www.cherieray.com/wp-content/uploads/2020/04/DSC02126-e1753845824812.jpg
END:VEVENT
BEGIN:VEVENT
DTSTART;TZID=America/Chicago:20260422T130000
DTEND;TZID=America/Chicago:20260422T150000
DTSTAMP:20260421T130806
CREATED:20260320T191959Z
LAST-MODIFIED:20260320T192202Z
UID:6568-1776862800-1776870000@www.cherieray.com
SUMMARY:April 22nd: Intuitive Painting ﻿Open Studio
DESCRIPTION:Open Studio Time: 1-3pm central time on Wednesday\, April 22\, 2026 \n2 Hour: Facilitated Open Studio Sessions to Expand Your Intuitive Painting Process \n7 session pass: $385 Purchase Here \nIndividual sessions: $59 Purchase Here \nPasses expire December 1\, 2026 \nRSVP’s with 24 hours notice\, no problem. Cancellations under 24 hours\, passes are forfeited. \nThese sessions are for returning painters. If you are new to Intuitive Painting please register for the Introduction to Intuitive Painting offering. \nYou are welcome to join these sessions after your Introductory session.
URL:https://www.cherieray.com/event/february11-intuitive-painting-open-studio-2-2-2-2/
CATEGORIES:Creativity Workshop,Intuitive Painting,Michele Cassou,Point Zero Painting,Workshops
ATTACH;FMTTYPE=image/jpeg:https://www.cherieray.com/wp-content/uploads/2020/05/IMG_9126-2-scaled-e1730947050202.jpg
END:VEVENT
BEGIN:VEVENT
DTSTART;TZID=America/Chicago:20260429T130000
DTEND;TZID=America/Chicago:20260429T150000
DTSTAMP:20260421T130806
CREATED:20260320T192124Z
LAST-MODIFIED:20260403T135843Z
UID:6570-1777467600-1777474800@www.cherieray.com
SUMMARY:April 29th: Intuitive Painting ﻿Open Studio
DESCRIPTION:Open Studio Time: 1-3pm central time on Wednesday\, April 29\, 2026 \n2 Hour: Facilitated Open Studio Sessions to Expand Your Intuitive Painting Process \nIndividual sessions: $59 Purchase Here \nRSVP’s with 24 hours notice\, no problem. Cancellations under 24 hours\, passes are forfeited. \nThese sessions are for returning painters. If you are new to Intuitive Painting please register for the Introduction to Intuitive Painting offering. \nYou are welcome to join these sessions after your Introductory session.
URL:https://www.cherieray.com/event/february11-intuitive-painting-open-studio-2-2-2-2-2/
CATEGORIES:Creativity Workshop,Intuitive Painting,Michele Cassou,Point Zero Painting,Workshops
ATTACH;FMTTYPE=image/jpeg:https://www.cherieray.com/wp-content/uploads/2020/05/IMG_9126-2-scaled-e1730947050202.jpg
END:VEVENT
BEGIN:VEVENT
DTSTART;TZID=America/Chicago:20260508T173000
DTEND;TZID=America/Chicago:20260516T090000
DTSTAMP:20260421T130806
CREATED:20251003T150052Z
LAST-MODIFIED:20251003T150136Z
UID:6356-1778261400-1778922000@www.cherieray.com
SUMMARY:Answering the Call of Creativity…A Radical Approach
DESCRIPTION:Point Zero Painting Retreat in Taos\, New Mexico: September 2026 \nMabel Dodge Luhan House. Taos\, New Mexico.\n\nFacilitated by Cherie Ray and a supportive staff with over 50 years of combined exploration in this process. \nThe workshop begins Friday\, May 8\, 2026 (5:30pm MDT) and concludes on Saturday\, May 16\, 2026 at breakfast (9am MDT).  \nStudio check-in at 5:30-6:30 to pick your painting space and to get your brushes. \nMichele’s video teachings and possible live guest speaking (via Zoom)\, supports your understanding of the Point Zero process. The on-site teaching staff is in the studio to support you every stroke of the way. It is rare for most people to use painting for its qualities of inner adventure and self-discovery\, to paint purely for the process of exploration\, not for the result. \nThe purpose of this workshop is to provide a setting to explore the self through painting\, to discover in form and color a powerful tool for uncovering and dissolving blocks to emotional and spiritual expression. Participants will be given the support and stimulation to develop a natural way of painting. \nThe work takes place in an authentic studio setting with large white surfaces to confront the creative void\, along with a rich spectrum of colors and brushes. This is a rare setting where painters are invited to explore in a studio that is available 24/7 during the workshop. \nNo prior experience is necessary. Paints\, paper\, and brushes supplied. Please bring a smock or painting apron. \nWhat people have said about this workshop:\n“I attended your workshop in Taos\, and it was one of the best\, most memorable experiences of my life. While I only met you through ZOOM\, your exuberant spirit and teaching methods helped me find joy in painting that I think I once had as a child but lost somewhere along the way. I will be eternally grateful for having had the opportunity to study and paint under your direction.” \n“Michele Cassou gives beautiful descriptions of the process of creativity in the mornings via Zoom. Cherie Ray facilitates this process for every individual like a magician\, supporting us in our own letting go towards a freedom of expression that emanates into my life-for sure. Perfect.” \n“Working remotely with Michele works very well. I gained a remarkable amount of insight about the process and myself from the morning sessions.” \n“This workshop will be hard to top. There was plenty of support and the setting is incredibly peaceful and soothing.” \n“Cherie and her crew really brought the enthusiasm and support.” \n“Michele is wonderfully present via Zoom. It was so valuable to hear her answer our questions about the process and her experience over the years. Her enthusiasm and passion come through and it is infectious.” \n“I want to to thank you for this wonderful painting experience as a whole and for the incredible way you were available just when I needed you to break through into a more expanded place in my paintings. I could not have moved forward without your guidance. Thank you!”   \n“Thank you for your wonderful way of facilitating this sacred work.”  \nMabel Dodge Luhan House\n240 Morada Lane\, Taos\, NM 87571\n+1 800-846-2235\nRegistration:\nContact Vanessa at Mabel Dodge\n+1 575-751-9686\nvanessa@mabeldodgeluhan.com\nTues\, Wed\, Fri and Sat from 7-3 MST \nWorkshop tuition includes:\nThe workshop\, all painting supplies\, housing\, and delicious meals beginning with dinner on Friday and breakfast on the final day of the workshop.\nPrivate room\, meals\, and workshop: $3275\nShared room\, if you are attending the workshop with a friend\, meals\, and workshop: $2600/person\n$500 deposit to reserve your space. $250 of your deposit is refundable if you need to cancel. \nFor registration and complete information\, please call Vanessa. She will answer all your questions and take great care of you! \n\nIf you have questions about the workshop or Point Zero painting\, contact Cherie Ray at Cherie@CherieRay.com
URL:https://www.cherieray.com/event/taosmay2026-3-2-2/
LOCATION:Mabel Dodge Luhan House\, Taos NM\, 240 Morada Lane\, Taos\, NM\, 87571\, United States
CATEGORIES:Classes,Creativity Workshop,Events,Intuitive Painting,Michele Cassou,Point Zero Painting,Workshops
ATTACH;FMTTYPE=image/jpeg:https://www.cherieray.com/wp-content/uploads/2016/08/TAOS-9.19.jpg
ORGANIZER;CN="Cherie Ray":MAILTO:Cherie@CherieRay.com
END:VEVENT
BEGIN:VEVENT
DTSTART;TZID=America/Chicago:20260619T113000
DTEND;TZID=America/Chicago:20260619T123000
DTSTAMP:20260421T130806
CREATED:20260311T123342Z
LAST-MODIFIED:20260311T123342Z
UID:6549-1781868600-1781872200@www.cherieray.com
SUMMARY:Free Friday Webinar:  Are You Taking Responsibility for Their Experience?
DESCRIPTION:Are you feeling responsible for the experience of others? Do you feel like you’re on edge or tap dancing to keep a smile on their face\, walking on eggshells or working hard to not disappoint them? This can exhaust you. Let’s get some understanding around this topic. \nJoin this fun global community of people\, just like you\, wanting to live with more freedom and ease. \nBring your questions\, friends\, family\, and colleagues. There will be an opportunity for individual coaching. Also\, an opportunity to expand your community. \nWhen: Friday\, June 19\, 2026\n11:30 AM Central Daylight Time (US and Canada) 9:30am Pacific\, 10:30 Mountain\, 12:30 Eastern\, 5:30 UK \nRegister in advance for this meeting: \nhttps://us02web.zoom.us/meeting/register/8_fdSNlpSZ2z5l9hfTPnWg \nAfter registering\, you will receive a confirmation email containing information about joining the meeting. \nLooking forward to seeing you at the webinar!
URL:https://www.cherieray.com/event/free-friday-webinar-are-you-taking-responsibility-for-their-experience/
CATEGORIES:Webinars
ATTACH;FMTTYPE=image/jpeg:https://www.cherieray.com/wp-content/uploads/2026/03/Website-Listings-Image-scaled.jpg
END:VEVENT
BEGIN:VEVENT
DTSTART;TZID=America/Chicago:20260717T113000
DTEND;TZID=America/Chicago:20260717T123000
DTSTAMP:20260421T130806
CREATED:20260311T130438Z
LAST-MODIFIED:20260311T130438Z
UID:6552-1784287800-1784291400@www.cherieray.com
SUMMARY:Free Friday Webinar: When Things Seem Most Believable
DESCRIPTION:Do you notice how the certain the mind is? Do you notice how sometimes you can brush these determinations off and other times they persist? What’s up with that? We will talk about it in this conversation. You will learn more about how the human mind operates. With understanding\, you will truly see what’s happening. \nJoin this fun global community of people\, just like you\, wanting to live with more freedom and ease. \nBring your questions\, friends\, family\, and colleagues. There will be an opportunity for individual coaching. Also\, an opportunity to expand your community. \nWhen: Friday\, July 17\, 2026\n11:30 AM Central Daylight Time (US and Canada) 9:30am Pacific\, 10:30 Mountain\, 12:30 Eastern\, 5:30 UK \nRegister in advance for this meeting: \nhttps://us02web.zoom.us/meeting/register/pekziNqkQiePkJoJv7W-5Q \nAfter registering\, you will receive a confirmation email containing information about joining the meeting. \nLooking forward to seeing you at the webinar!
URL:https://www.cherieray.com/event/free-friday-webinar-when-things-seem-most-believable/
CATEGORIES:Webinars
ATTACH;FMTTYPE=image/jpeg:https://www.cherieray.com/wp-content/uploads/2026/03/Ron-Lach-Pexels-Image-scaled.jpg
END:VEVENT
BEGIN:VEVENT
DTSTART;TZID=America/Chicago:20260814T113000
DTEND;TZID=America/Chicago:20260814T123000
DTSTAMP:20260421T130806
CREATED:20260311T123030Z
LAST-MODIFIED:20260407T213240Z
UID:6547-1786707000-1786710600@www.cherieray.com
SUMMARY:Free Friday Webinar:  Let’s Check In with the “What the Heck Department”
DESCRIPTION:Every lucky day that you are alive you get to play the game of LIFE! How do you play? Do you feel like you’re playing with the ‘houses’ money or do you feel like every choice is a game of Risk and you have something to lose? Let’s talk about it. \nJoin this fun global community of people\, just like you\, wanting to live with more freedom and ease. \nBring your questions\, friends\, family\, and colleagues. There will be an opportunity for individual coaching. Also\, an opportunity to expand your community. \nWhen: Friday\, August 14\, 2026\n11:30 AM Central Daylight Time (US and Canada) 9:30am Pacific\, 10:30 Mountain\, 12:30 Eastern\, 5:30 UK \nRegister in advance for this meeting: \nhttps://us02web.zoom.us/meeting/register/Q-3xAGjmSuWYzzabfFXllA \nAfter registering\, you will receive a confirmation email containing information about joining the meeting. \nLooking forward to seeing you at the webinar!
URL:https://www.cherieray.com/event/free-friday-webinar-lets-check-in-with-the-what-the-heck-department/
CATEGORIES:Webinars
END:VEVENT
BEGIN:VEVENT
DTSTART;TZID=America/Chicago:20260911T173000
DTEND;TZID=America/Chicago:20260919T090000
DTSTAMP:20260421T130806
CREATED:20251003T145627Z
LAST-MODIFIED:20260204T173349Z
UID:6349-1789147800-1789808400@www.cherieray.com
SUMMARY:Answering the Call of Creativity…A Radical Approach Fall Retreat
DESCRIPTION:Point Zero Painting Retreat in Taos\, New Mexico: September 2026 \nMabel Dodge Luhan House. Taos\, New Mexico.\n\nFacilitated by Cherie Ray and a supportive staff with over 50 years of combined exploration in this process. \nThe workshop begins Friday\, September 11\, 2026 (5:30pm MDT) and concludes on Saturday\, September 19\, 2026 at breakfast (9am MDT).  \nStudio check-in at 5:30-6:30 to pick your painting space and to get your brushes. \nMichele’s video teachings and possible live guest speaking (via Zoom)\, supports your understanding of the Point Zero process. The on-site teaching staff is in the studio to support you every stroke of the way. It is rare for most people to use painting for its qualities of inner adventure and self-discovery\, to paint purely for the process of exploration\, not for the result. \nThe purpose of this workshop is to provide a setting to explore the self through painting\, to discover in form and color a powerful tool for uncovering and dissolving blocks to emotional and spiritual expression. Participants will be given the support and stimulation to develop a natural way of painting. \nThe work takes place in an authentic studio setting with large white surfaces to confront the creative void\, along with a rich spectrum of colors and brushes. This is a rare setting where painters are invited to explore in a studio that is available 24/7 during the workshop. \nNo prior experience is necessary. Paints\, paper\, and brushes supplied. Please bring a smock or painting apron. \nWhat people have said about this workshop:\n“I attended your workshop in Taos\, and it was one of the best\, most memorable experiences of my life. While I only met you through ZOOM\, your exuberant spirit and teaching methods helped me find joy in painting that I think I once had as a child but lost somewhere along the way. I will be eternally grateful for having had the opportunity to study and paint under your direction.” \n“Michele Cassou gives beautiful descriptions of the process of creativity in the mornings via Zoom. Cherie Ray facilitates this process for every individual like a magician\, supporting us in our own letting go towards a freedom of expression that emanates into my life-for sure. Perfect.” \n“Working remotely with Michele works very well. I gained a remarkable amount of insight about the process and myself from the morning sessions.” \n“This workshop will be hard to top. There was plenty of support and the setting is incredibly peaceful and soothing.” \n“Cherie and her crew really brought the enthusiasm and support.” \n“Michele is wonderfully present via Zoom. It was so valuable to hear her answer our questions about the process and her experience over the years. Her enthusiasm and passion come through and it is infectious.” \n“I want to to thank you for this wonderful painting experience as a whole and for the incredible way you were available just when I needed you to break through into a more expanded place in my paintings. I could not have moved forward without your guidance. Thank you!” \n“Thank you for your wonderful way of facilitating this sacred work.” \nMabel Dodge Luhan House\n240 Morada Lane\, Taos\, NM 87571\n+1 800-846-2235\nRegistration:\nContact Vanessa at Mabel Dodge\n+1 575-751-9686\nvanessa@mabeldodgeluhan.com\nTues\, Wed\, Fri and Sat from 7-3 MST \nWorkshop tuition includes:\nThe workshop\, all painting supplies\, housing\, and delicious meals beginning with dinner on Friday and breakfast on the final day of the workshop.\nPrivate room\, meals\, and workshop: $3275\nShared room\, if you are attending the workshop with a friend\, meals\, and workshop: $2600/person\n$500 deposit to reserve your space. $250 of your deposit is refundable if you need to cancel. \nFor registration and complete information\, please call Vanessa. She will answer all your questions and take great care of you! \n\nIf you have questions about the workshop or Point Zero painting\, contact Cherie Ray at Cherie@CherieRay.com
URL:https://www.cherieray.com/event/taossept2026/
LOCATION:Mabel Dodge Luhan House\, Taos NM\, 240 Morada Lane\, Taos\, NM\, 87571\, United States
CATEGORIES:Classes,Creativity Workshop,Events,Intuitive Painting,Michele Cassou,Point Zero Painting,Workshops
ATTACH;FMTTYPE=image/jpeg:https://www.cherieray.com/wp-content/uploads/2016/08/TAOS-9.19.jpg
ORGANIZER;CN="Cherie Ray":MAILTO:Cherie@CherieRay.com
END:VEVENT
BEGIN:VEVENT
DTSTART;TZID=America/Chicago:20270910T173000
DTEND;TZID=America/Chicago:20270918T090000
DTSTAMP:20260421T130806
CREATED:20251101T172256Z
LAST-MODIFIED:20260204T173307Z
UID:6360-1820597400-1821258000@www.cherieray.com
SUMMARY:Answering the Call of Creativity… A Radical Approach Fall Retreat
DESCRIPTION:Point Zero Painting Retreat in Taos\, New Mexico: September 2027 \nMabel Dodge Luhan House. Taos\, New Mexico.\n\nFacilitated by Cherie Ray and a supportive staff with over 50 years of combined exploration in this process. \nThe workshop begins Friday\, September 10\, 2026 (5:30pm MDT) and concludes on Saturday\, September 18\, 2026 at breakfast (9am MDT).  \nStudio check-in at 5:30-6:30 to pick your painting space and to get your brushes. \nMichele’s video teachings and possible live guest speaking (via Zoom)\, supports your understanding of the Point Zero process. The on-site teaching staff is in the studio to support you every stroke of the way. It is rare for most people to use painting for its qualities of inner adventure and self-discovery\, to paint purely for the process of exploration\, not for the result. \nThe purpose of this workshop is to provide a setting to explore the self through painting\, to discover in form and color a powerful tool for uncovering and dissolving blocks to emotional and spiritual expression. Participants will be given the support and stimulation to develop a natural way of painting. \nThe work takes place in an authentic studio setting with large white surfaces to confront the creative void\, along with a rich spectrum of colors and brushes. This is a rare setting where painters are invited to explore in a studio that is available 24/7 during the workshop. \nNo prior experience is necessary. Paints\, paper\, and brushes supplied. Please bring a smock or painting apron. \nWhat people have said about this workshop:\n“I attended your workshop in Taos\, and it was one of the best\, most memorable experiences of my life. While I only met you through ZOOM\, your exuberant spirit and teaching methods helped me find joy in painting that I think I once had as a child but lost somewhere along the way. I will be eternally grateful for having had the opportunity to study and paint under your direction.” \n“Michele Cassou gives beautiful descriptions of the process of creativity in the mornings via Zoom. Cherie Ray facilitates this process for every individual like a magician\, supporting us in our own letting go towards a freedom of expression that emanates into my life-for sure. Perfect.” \n“Working remotely with Michele works very well. I gained a remarkable amount of insight about the process and myself from the morning sessions.” \n“This workshop will be hard to top. There was plenty of support and the setting is incredibly peaceful and soothing.” \n“Cherie and her crew really brought the enthusiasm and support.” \n“Michele is wonderfully present via Zoom. It was so valuable to hear her answer our questions about the process and her experience over the years. Her enthusiasm and passion come through and it is infectious.” \n“I want to to thank you for this wonderful painting experience as a whole and for the incredible way you were available just when I needed you to break through into a more expanded place in my paintings. I could not have moved forward without your guidance. Thank you!” \n“Thank you for your wonderful way of facilitating this sacred work.” \n“Just to let you know my time in Taos and your facilitating style has made a huge difference in my painting journey both as painter and facilitator.” P.K. \nMabel Dodge Luhan House\n240 Morada Lane\, Taos\, NM 87571\n+1 800-846-2235\nRegistration:\nContact Vanessa at Mabel Dodge\n+1 575-751-9686\nvanessa@mabeldodgeluhan.com\nTues\, Wed\, Fri and Sat from 7-3 MST \nWorkshop tuition includes:\nThe workshop\, all painting supplies\, housing\, and delicious meals beginning with dinner on Friday and breakfast on the final day of the workshop.\nPrivate room\, meals\, and workshop: $3275\nShared room\, if you are attending the workshop with a friend\, meals\, and workshop: $2600/person\n$500 deposit to reserve your space. $250 of your deposit is refundable if you need to cancel. \nFor registration and complete information\, please call Vanessa. She will answer all your questions and take great care of you! \n\nIf you have questions about the workshop or Point Zero painting\, contact Cherie Ray at Cherie@CherieRay.com
URL:https://www.cherieray.com/event/taossept2027/
LOCATION:Mabel Dodge Luhan House\, Taos NM\, 240 Morada Lane\, Taos\, NM\, 87571\, United States
CATEGORIES:Classes,Creativity Workshop,Events,Intuitive Painting,Michele Cassou,Point Zero Painting,Workshops
ATTACH;FMTTYPE=image/jpeg:https://www.cherieray.com/wp-content/uploads/2016/08/TAOS-9.19.jpg
ORGANIZER;CN="Cherie Ray":MAILTO:Cherie@CherieRay.com
END:VEVENT
END:VCALENDAR